Workbook

Sheet Jahresplaner
A1: Jahr | C1: 2027 | E1: Bundesland | G1: NW | I1: Jahresplaner
A2: Monat | B2: Montag | D2: Dienstag | F2: Mittwoch | H2: Donnerstag | J2: Freitag | L2: Samstag | N2: Sonntag | P2: KW | R2: d0 | S2: d1 | T2: d2 | U2: d3 | V2: d4 | W2: d5 | X2: d6
A3: =IF(AND(DAY(X3)<=7,YEAR(X3)=$C$1),TEXT(X3,"MMM"),"") -> Jan | B3: =DAY(R3) -> 28 | C3: =IFERROR(IF(INDEX(Feiertage!$C$2:$S$40,MATCH(R3,Feiertage!$B$2:$B$40,0),MATCH($G$1,Feiertage!$C$1:$S$1,0))="x",INDEX(Feiertage!$A$2:$A$40,MATCH(R3,Feiertage!$B$2:$B$40,0)),""),"") | D3: =DAY(S3) -> 29 | E3: =IFERROR(IF(INDEX(Feiertage!$C$2:$S$40,MATCH(S3,Feiertage!$B$2:$B$40,0),MATCH($G$1,Feiertage!$C$1:$S$1,0))="x",INDEX(Feiertage!$A$2:$A$40,MATCH(S3,Feiertage!$B$2:$B$40,0)),""),"") | F3: =DAY(T3) -> 30 | G3: =IFERROR(IF(INDEX(Feiertage!$C$2:$S$40,MATCH(T3,Feiertage!$B$2:$B$40,0),MATCH($G$1,Feiertage!$C$1:$S$1,0))="x",INDEX(Feiertage!$A$2:$A$40,MATCH(T3,Feiertage!$B$2:$B$40,0)),""),"") | H3: =DAY(U3) -> 31 | I3: =IFERROR(IF(INDEX(Feiertage!$C$2:$S$40,MATCH(U3,Feiertage!$B$2:$B$40,0),MATCH($G$1,Feiertage!$C$1:$S$1,0))="x",INDEX(Feiertage!$A$2:$A$40,MATCH(U3,Feiertage!$B$2:$B$40,0)),""),"") | J3: =DAY(V3) -> 1 | K3: =IFERROR(IF(INDEX(Feiertage!$C$2:$S$40,MATCH(V3,Feiertage!$B$2:$B$40,0),MATCH($G$1,Feiertage!$C$1:$S$1,0))="x",INDEX(Feiertage!$A$2:$A$40,MATCH(V3,Feiertage!$B$2:$B$40,0)),""),"") -> Neujahr | L3: =DAY(W3) -> 2 | M3: =IFERROR(IF(INDEX(Feiertage!$C$2:$S$40,MATCH(W3,Feiertage!$B$2:$B$40,0),MATCH($G$1,Feiertage!$C$1:$S$1,0))="x",INDEX(Feiertage!$A$2:$A$40,MATCH(W3,Feiertage!$B$2:$B$40,0)),""),"") | N3: =DAY(X3) -> 3 | O3: =IFERROR(IF(INDEX(Feiertage!$C$2:$S$40,MATCH(X3,Feiertage!$B$2:$B$40,0),MATCH($G$1,Feiertage!$C$1:$S$1,0))="x",INDEX(Feiertage!$A$2:$A$40,MATCH(X3,Feiertage!$B$2:$B$40,0)),""),"") | P3: =WEEKNUM(R3+3,21) -> 53 | R3: =DATE($C$1,1,1)-WEEKDAY(DATE($C$1,1,1),3) -> 46384 | S3: =R3+1 -> 46385 | T3: =S3+1 -> 46386 | U3: =T3+1 -> 46387 | V3: =U3+1 -> 46388 | W3: =V3+1 -> 46389 | X3: =W3+1 -> 46390
A4: =IF(AND(DAY(X4)<=7,YEAR(X4)=$C$1),TEXT(X4,"MMM"),"") | B4: =DAY(R4) -> 4 | C4: =IFERROR(IF(INDEX(Feiertage!$C$2:$S$40,MATCH(R4,Feiertage!$B$2:$B$40,0),MATCH($G$1,Feiertage!$C$1:$S$1,0))="x",INDEX(Feiertage!$A$2:$A$40,MATCH(R4,Feiertage!$B$2:$B$40,0)),""),"") | D4: =DAY(S4) -> 5 | E4: =IFERROR(IF(INDEX(Feiertage!$C$2:$S$40,MATCH(S4,Feiertage!$B$2:$B$40,0),MATCH($G$1,Feiertage!$C$1:$S$1,0))="x",INDEX(Feiertage!$A$2:$A$40,MATCH(S4,Feiertage!$B$2:$B$40,0)),""),"") | F4: =DAY(T4) -> 6 | G4: =IFERROR(IF(INDEX(Feiertage!$C$2:$S$40,MATCH(T4,Feiertage!$B$2:$B$40,0),MATCH($G$1,Feiertage!$C$1:$S$1,0))="x",INDEX(Feiertage!$A$2:$A$40,MATCH(T4,Feiertage!$B$2:$B$40,0)),""),"") | H4: =DAY(U4) -> 7 | I4: =IFERROR(IF(INDEX(Feiertage!$C$2:$S$40,MATCH(U4,Feiertage!$B$2:$B$40,0),MATCH($G$1,Feiertage!$C$1:$S$1,0))="x",INDEX(Feiertage!$A$2:$A$40,MATCH(U4,Feiertage!$B$2:$B$40,0)),""),"") | J4: =DAY(V4) -> 8 | K4: =IFERROR(IF(INDEX(Feiertage!$C$2:$S$40,MATCH(V4,Feiertage!$B$2:$B$40,0),MATCH($G$1,Feiertage!$C$1:$S$1,0))="x",INDEX(Feiertage!$A$2:$A$40,MATCH(V4,Feiertage!$B$2:$B$40,0)),""),"") | L4: =DAY(W4) -> 9 | M4: =IFERROR(IF(INDEX(Feiertage!$C$2:$S$40,MATCH(W4,Feiertage!$B$2:$B$40,0),MATCH($G$1,Feiertage!$C$1:$S$1,0))="x",INDEX(Feiertage!$A$2:$A$40,MATCH(W4,Feiertage!$B$2:$B$40,0)),""),"") | N4: =DAY(X4) -> 10 | O4: =IFERROR(IF(INDEX(Feiertage!$C$2:$S$40,MATCH(X4,Feiertage!$B$2:$B$40,0),MATCH($G$1,Feiertage!$C$1:$S$1,0))="x",INDEX(Feiertage!$A$2:$A$40,MATCH(X4,Feiertage!$B$2:$B$40,0)),""),"") | P4: =WEEKNUM(R4+3,21) -> 1 | R4: =R3+7 -> 46391 | S4: =R4+1 -> 46392 | T4: =S4+1 -> 46393 | U4: =T4+1 -> 46394 | V4: =U4+1 -> 46395 | W4: =V4+1 -> 46396 | X4: =W4+1 -> 46397
A5: =IF(AND(DAY(X5)<=7,YEAR(X5)=$C$1),TEXT(X5,"MMM"),"") | B5: =DAY(R5) -> 11 | C5: =IFERROR(IF(INDEX(Feiertage!$C$2:$S$40,MATCH(R5,Feiertage!$B$2:$B$40,0),MATCH($G$1,Feiertage!$C$1:$S$1,0))="x",INDEX(Feiertage!$A$2:$A$40,MATCH(R5,Feiertage!$B$2:$B$40,0)),""),"") | D5: =DAY(S5) -> 12 | E5: =IFERROR(IF(INDEX(Feiertage!$C$2:$S$40,MATCH(S5,Feiertage!$B$2:$B$40,0),MATCH($G$1,Feiertage!$C$1:$S$1,0))="x",INDEX(Feiertage!$A$2:$A$40,MATCH(S5,Feiertage!$B$2:$B$40,0)),""),"") | F5: =DAY(T5) -> 13 | G5: =IFERROR(IF(INDEX(Feiertage!$C$2:$S$40,MATCH(T5,Feiertage!$B$2:$B$40,0),MATCH($G$1,Feiertage!$C$1:$S$1,0))="x",INDEX(Feiertage!$A$2:$A$40,MATCH(T5,Feiertage!$B$2:$B$40,0)),""),"") | H5: =DAY(U5) -> 14 | I5: =IFERROR(IF(INDEX(Feiertage!$C$2:$S$40,MATCH(U5,Feiertage!$B$2:$B$40,0),MATCH($G$1,Feiertage!$C$1:$S$1,0))="x",INDEX(Feiertage!$A$2:$A$40,MATCH(U5,Feiertage!$B$2:$B$40,0)),""),"") | J5: =DAY(V5) -> 15 | K5: =IFERROR(IF(INDEX(Feiertage!$C$2:$S$40,MATCH(V5,Feiertage!$B$2:$B$40,0),MATCH($G$1,Feiertage!$C$1:$S$1,0))="x",INDEX(Feiertage!$A$2:$A$40,MATCH(V5,Feiertage!$B$2:$B$40,0)),""),"") | L5: =DAY(W5) -> 16 | M5: =IFERROR(IF(INDEX(Feiertage!$C$2:$S$40,MATCH(W5,Feiertage!$B$2:$B$40,0),MATCH($G$1,Feiertage!$C$1:$S$1,0))="x",INDEX(Feiertage!$A$2:$A$40,MATCH(W5,Feiertage!$B$2:$B$40,0)),""),"") | N5: =DAY(X5) -> 17 | O5: =IFERROR(IF(INDEX(Feiertage!$C$2:$S$40,MATCH(X5,Feiertage!$B$2:$B$40,0),MATCH($G$1,Feiertage!$C$1:$S$1,0))="x",INDEX(Feiertage!$A$2:$A$40,MATCH(X5,Feiertage!$B$2:$B$40,0)),""),"") | P5: =WEEKNUM(R5+3,21) -> 2 | R5: =R4+7 -> 46398 | S5: =R5+1 -> 46399 | T5: =S5+1 -> 46400 | U5: =T5+1 -> 46401 | V5: =U5+1 -> 46402 | W5: =V5+1 -> 46403 | X5: =W5+1 -> 46404
A6: =IF(AND(DAY(X6)<=7,YEAR(X6)=$C$1),TEXT(X6,"MMM"),"") | B6: =DAY(R6) -> 18 | C6: =IFERROR(IF(INDEX(Feiertage!$C$2:$S$40,MATCH(R6,Feiertage!$B$2:$B$40,0),MATCH($G$1,Feiertage!$C$1:$S$1,0))="x",INDEX(Feiertage!$A$2:$A$40,MATCH(R6,Feiertage!$B$2:$B$40,0)),""),"") | D6: =DAY(S6) -> 19 | E6: =IFERROR(IF(INDEX(Feiertage!$C$2:$S$40,MATCH(S6,Feiertage!$B$2:$B$40,0),MATCH($G$1,Feiertage!$C$1:$S$1,0))="x",INDEX(Feiertage!$A$2:$A$40,MATCH(S6,Feiertage!$B$2:$B$40,0)),""),"") | F6: =DAY(T6) -> 20 | G6: =IFERROR(IF(INDEX(Feiertage!$C$2:$S$40,MATCH(T6,Feiertage!$B$2:$B$40,0),MATCH($G$1,Feiertage!$C$1:$S$1,0))="x",INDEX(Feiertage!$A$2:$A$40,MATCH(T6,Feiertage!$B$2:$B$40,0)),""),"") | H6: =DAY(U6) -> 21 | I6: =IFERROR(IF(INDEX(Feiertage!$C$2:$S$40,MATCH(U6,Feiertage!$B$2:$B$40,0),MATCH($G$1,Feiertage!$C$1:$S$1,0))="x",INDEX(Feiertage!$A$2:$A$40,MATCH(U6,Feiertage!$B$2:$B$40,0)),""),"") | J6: =DAY(V6) -> 22 | K6: =IFERROR(IF(INDEX(Feiertage!$C$2:$S$40,MATCH(V6,Feiertage!$B$2:$B$40,0),MATCH($G$1,Feiertage!$C$1:$S$1,0))="x",INDEX(Feiertage!$A$2:$A$40,MATCH(V6,Feiertage!$B$2:$B$40,0)),""),"") | L6: =DAY(W6) -> 23 | M6: =IFERROR(IF(INDEX(Feiertage!$C$2:$S$40,MATCH(W6,Feiertage!$B$2:$B$40,0),MATCH($G$1,Feiertage!$C$1:$S$1,0))="x",INDEX(Feiertage!$A$2:$A$40,MATCH(W6,Feiertage!$B$2:$B$40,0)),""),"") | N6: =DAY(X6) -> 24 | O6: =IFERROR(IF(INDEX(Feiertage!$C$2:$S$40,MATCH(X6,Feiertage!$B$2:$B$40,0),MATCH($G$1,Feiertage!$C$1:$S$1,0))="x",INDEX(Feiertage!$A$2:$A$40,MATCH(X6,Feiertage!$B$2:$B$40,0)),""),"") | P6: =WEEKNUM(R6+3,21) -> 3 | R6: =R5+7 -> 46405 | S6: =R6+1 -> 46406 | T6: =S6+1 -> 46407 | U6: =T6+1 -> 46408 | V6: =U6+1 -> 46409 | W6: =V6+1 -> 46410 | X6: =W6+1 -> 46411
A7: =IF(AND(DAY(X7)<=7,YEAR(X7)=$C$1),TEXT(X7,"MMM"),"") | B7: =DAY(R7) -> 25 | C7: =IFERROR(IF(INDEX(Feiertage!$C$2:$S$40,MATCH(R7,Feiertage!$B$2:$B$40,0),MATCH($G$1,Feiertage!$C$1:$S$1,0))="x",INDEX(Feiertage!$A$2:$A$40,MATCH(R7,Feiertage!$B$2:$B$40,0)),""),"") | D7: =DAY(S7) -> 26 | E7: =IFERROR(IF(INDEX(Feiertage!$C$2:$S$40,MATCH(S7,Feiertage!$B$2:$B$40,0),MATCH($G$1,Feiertage!$C$1:$S$1,0))="x",INDEX(Feiertage!$A$2:$A$40,MATCH(S7,Feiertage!$B$2:$B$40,0)),""),"") | F7: =DAY(T7) -> 27 | G7: =IFERROR(IF(INDEX(Feiertage!$C$2:$S$40,MATCH(T7,Feiertage!$B$2:$B$40,0),MATCH($G$1,Feiertage!$C$1:$S$1,0))="x",INDEX(Feiertage!$A$2:$A$40,MATCH(T7,Feiertage!$B$2:$B$40,0)),""),"") | H7: =DAY(U7) -> 28 | I7: =IFERROR(IF(INDEX(Feiertage!$C$2:$S$40,MATCH(U7,Feiertage!$B$2:$B$40,0),MATCH($G$1,Feiertage!$C$1:$S$1,0))="x",INDEX(Feiertage!$A$2:$A$40,MATCH(U7,Feiertage!$B$2:$B$40,0)),""),"") | J7: =DAY(V7) -> 29 | K7: =IFERROR(IF(INDEX(Feiertage!$C$2:$S$40,MATCH(V7,Feiertage!$B$2:$B$40,0),MATCH($G$1,Feiertage!$C$1:$S$1,0))="x",INDEX(Feiertage!$A$2:$A$40,MATCH(V7,Feiertage!$B$2:$B$40,0)),""),"") | L7: =DAY(W7) -> 30 | M7: =IFERROR(IF(INDEX(Feiertage!$C$2:$S$40,MATCH(W7,Feiertage!$B$2:$B$40,0),MATCH($G$1,Feiertage!$C$1:$S$1,0))="x",INDEX(Feiertage!$A$2:$A$40,MATCH(W7,Feiertage!$B$2:$B$40,0)),""),"") | N7: =DAY(X7) -> 31 | O7: =IFERROR(IF(INDEX(Feiertage!$C$2:$S$40,MATCH(X7,Feiertage!$B$2:$B$40,0),MATCH($G$1,Feiertage!$C$1:$S$1,0))="x",INDEX(Feiertage!$A$2:$A$40,MATCH(X7,Feiertage!$B$2:$B$40,0)),""),"") | P7: =WEEKNUM(R7+3,21) -> 4 | R7: =R6+7 -> 46412 | S7: =R7+1 -> 46413 | T7: =S7+1 -> 46414 | U7: =T7+1 -> 46415 | V7: =U7+1 -> 46416 | W7: =V7+1 -> 46417 | X7: =W7+1 -> 46418
A8: =IF(AND(DAY(X8)<=7,YEAR(X8)=$C$1),TEXT(X8,"MMM"),"") -> Feb | B8: =DAY(R8) -> 1 | C8: =IFERROR(IF(INDEX(Feiertage!$C$2:$S$40,MATCH(R8,Feiertage!$B$2:$B$40,0),MATCH($G$1,Feiertage!$C$1:$S$1,0))="x",INDEX(Feiertage!$A$2:$A$40,MATCH(R8,Feiertage!$B$2:$B$40,0)),""),"") | D8: =DAY(S8) -> 2 | E8: =IFERROR(IF(INDEX(Feiertage!$C$2:$S$40,MATCH(S8,Feiertage!$B$2:$B$40,0),MATCH($G$1,Feiertage!$C$1:$S$1,0))="x",INDEX(Feiertage!$A$2:$A$40,MATCH(S8,Feiertage!$B$2:$B$40,0)),""),"") | F8: =DAY(T8) -> 3 | G8: =IFERROR(IF(INDEX(Feiertage!$C$2:$S$40,MATCH(T8,Feiertage!$B$2:$B$40,0),MATCH($G$1,Feiertage!$C$1:$S$1,0))="x",INDEX(Feiertage!$A$2:$A$40,MATCH(T8,Feiertage!$B$2:$B$40,0)),""),"") | H8: =DAY(U8) -> 4 | I8: =IFERROR(IF(INDEX(Feiertage!$C$2:$S$40,MATCH(U8,Feiertage!$B$2:$B$40,0),MATCH($G$1,Feiertage!$C$1:$S$1,0))="x",INDEX(Feiertage!$A$2:$A$40,MATCH(U8,Feiertage!$B$2:$B$40,0)),""),"") | J8: =DAY(V8) -> 5 | K8: =IFERROR(IF(INDEX(Feiertage!$C$2:$S$40,MATCH(V8,Feiertage!$B$2:$B$40,0),MATCH($G$1,Feiertage!$C$1:$S$1,0))="x",INDEX(Feiertage!$A$2:$A$40,MATCH(V8,Feiertage!$B$2:$B$40,0)),""),"") | L8: =DAY(W8) -> 6 | M8: =IFERROR(IF(INDEX(Feiertage!$C$2:$S$40,MATCH(W8,Feiertage!$B$2:$B$40,0),MATCH($G$1,Feiertage!$C$1:$S$1,0))="x",INDEX(Feiertage!$A$2:$A$40,MATCH(W8,Feiertage!$B$2:$B$40,0)),""),"") | N8: =DAY(X8) -> 7 | O8: =IFERROR(IF(INDEX(Feiertage!$C$2:$S$40,MATCH(X8,Feiertage!$B$2:$B$40,0),MATCH($G$1,Feiertage!$C$1:$S$1,0))="x",INDEX(Feiertage!$A$2:$A$40,MATCH(X8,Feiertage!$B$2:$B$40,0)),""),"") | P8: =WEEKNUM(R8+3,21) -> 5 | R8: =R7+7 -> 46419 | S8: =R8+1 -> 46420 | T8: =S8+1 -> 46421 | U8: =T8+1 -> 46422 | V8: =U8+1 -> 46423 | W8: =V8+1 -> 46424 | X8: =W8+1 -> 46425
A9: =IF(AND(DAY(X9)<=7,YEAR(X9)=$C$1),TEXT(X9,"MMM"),"") | B9: =DAY(R9) -> 8 | C9: =IFERROR(IF(INDEX(Feiertage!$C$2:$S$40,MATCH(R9,Feiertage!$B$2:$B$40,0),MATCH($G$1,Feiertage!$C$1:$S$1,0))="x",INDEX(Feiertage!$A$2:$A$40,MATCH(R9,Feiertage!$B$2:$B$40,0)),""),"") | D9: =DAY(S9) -> 9 | E9: =IFERROR(IF(INDEX(Feiertage!$C$2:$S$40,MATCH(S9,Feiertage!$B$2:$B$40,0),MATCH($G$1,Feiertage!$C$1:$S$1,0))="x",INDEX(Feiertage!$A$2:$A$40,MATCH(S9,Feiertage!$B$2:$B$40,0)),""),"") | F9: =DAY(T9) -> 10 | G9: =IFERROR(IF(INDEX(Feiertage!$C$2:$S$40,MATCH(T9,Feiertage!$B$2:$B$40,0),MATCH($G$1,Feiertage!$C$1:$S$1,0))="x",INDEX(Feiertage!$A$2:$A$40,MATCH(T9,Feiertage!$B$2:$B$40,0)),""),"") | H9: =DAY(U9) -> 11 | I9: =IFERROR(IF(INDEX(Feiertage!$C$2:$S$40,MATCH(U9,Feiertage!$B$2:$B$40,0),MATCH($G$1,Feiertage!$C$1:$S$1,0))="x",INDEX(Feiertage!$A$2:$A$40,MATCH(U9,Feiertage!$B$2:$B$40,0)),""),"") | J9: =DAY(V9) -> 12 | K9: =IFERROR(IF(INDEX(Feiertage!$C$2:$S$40,MATCH(V9,Feiertage!$B$2:$B$40,0),MATCH($G$1,Feiertage!$C$1:$S$1,0))="x",INDEX(Feiertage!$A$2:$A$40,MATCH(V9,Feiertage!$B$2:$B$40,0)),""),"") | L9: =DAY(W9) -> 13 | M9: =IFERROR(IF(INDEX(Feiertage!$C$2:$S$40,MATCH(W9,Feiertage!$B$2:$B$40,0),MATCH($G$1,Feiertage!$C$1:$S$1,0))="x",INDEX(Feiertage!$A$2:$A$40,MATCH(W9,Feiertage!$B$2:$B$40,0)),""),"") | N9: =DAY(X9) -> 14 | O9: =IFERROR(IF(INDEX(Feiertage!$C$2:$S$40,MATCH(X9,Feiertage!$B$2:$B$40,0),MATCH($G$1,Feiertage!$C$1:$S$1,0))="x",INDEX(Feiertage!$A$2:$A$40,MATCH(X9,Feiertage!$B$2:$B$40,0)),""),"") | P9: =WEEKNUM(R9+3,21) -> 6 | R9: =R8+7 -> 46426 | S9: =R9+1 -> 46427 | T9: =S9+1 -> 46428 | U9: =T9+1 -> 46429 | V9: =U9+1 -> 46430 | W9: =V9+1 -> 46431 | X9: =W9+1 -> 46432
A10: =IF(AND(DAY(X10)<=7,YEAR(X10)=$C$1),TEXT(X10,"MMM"),"") | B10: =DAY(R10) -> 15 | C10: =IFERROR(IF(INDEX(Feiertage!$C$2:$S$40,MATCH(R10,Feiertage!$B$2:$B$40,0),MATCH($G$1,Feiertage!$C$1:$S$1,0))="x",INDEX(Feiertage!$A$2:$A$40,MATCH(R10,Feiertage!$B$2:$B$40,0)),""),"") | D10: =DAY(S10) -> 16 | E10: =IFERROR(IF(INDEX(Feiertage!$C$2:$S$40,MATCH(S10,Feiertage!$B$2:$B$40,0),MATCH($G$1,Feiertage!$C$1:$S$1,0))="x",INDEX(Feiertage!$A$2:$A$40,MATCH(S10,Feiertage!$B$2:$B$40,0)),""),"") | F10: =DAY(T10) -> 17 | G10: =IFERROR(IF(INDEX(Feiertage!$C$2:$S$40,MATCH(T10,Feiertage!$B$2:$B$40,0),MATCH($G$1,Feiertage!$C$1:$S$1,0))="x",INDEX(Feiertage!$A$2:$A$40,MATCH(T10,Feiertage!$B$2:$B$40,0)),""),"") | H10: =DAY(U10) -> 18 | I10: =IFERROR(IF(INDEX(Feiertage!$C$2:$S$40,MATCH(U10,Feiertage!$B$2:$B$40,0),MATCH($G$1,Feiertage!$C$1:$S$1,0))="x",INDEX(Feiertage!$A$2:$A$40,MATCH(U10,Feiertage!$B$2:$B$40,0)),""),"") | J10: =DAY(V10) -> 19 | K10: =IFERROR(IF(INDEX(Feiertage!$C$2:$S$40,MATCH(V10,Feiertage!$B$2:$B$40,0),MATCH($G$1,Feiertage!$C$1:$S$1,0))="x",INDEX(Feiertage!$A$2:$A$40,MATCH(V10,Feiertage!$B$2:$B$40,0)),""),"") | L10: =DAY(W10) -> 20 | M10: =IFERROR(IF(INDEX(Feiertage!$C$2:$S$40,MATCH(W10,Feiertage!$B$2:$B$40,0),MATCH($G$1,Feiertage!$C$1:$S$1,0))="x",INDEX(Feiertage!$A$2:$A$40,MATCH(W10,Feiertage!$B$2:$B$40,0)),""),"") | N10: =DAY(X10) -> 21 | O10: =IFERROR(IF(INDEX(Feiertage!$C$2:$S$40,MATCH(X10,Feiertage!$B$2:$B$40,0),MATCH($G$1,Feiertage!$C$1:$S$1,0))="x",INDEX(Feiertage!$A$2:$A$40,MATCH(X10,Feiertage!$B$2:$B$40,0)),""),"") | P10: =WEEKNUM(R10+3,21) -> 7 | R10: =R9+7 -> 46433 | S10: =R10+1 -> 46434 | T10: =S10+1 -> 46435 | U10: =T10+1 -> 46436 | V10: =U10+1 -> 46437 | W10: =V10+1 -> 46438 | X10: =W10+1 -> 46439
A11: =IF(AND(DAY(X11)<=7,YEAR(X11)=$C$1),TEXT(X11,"MMM"),"") | B11: =DAY(R11) -> 22 | C11: =IFERROR(IF(INDEX(Feiertage!$C$2:$S$40,MATCH(R11,Feiertage!$B$2:$B$40,0),MATCH($G$1,Feiertage!$C$1:$S$1,0))="x",INDEX(Feiertage!$A$2:$A$40,MATCH(R11,Feiertage!$B$2:$B$40,0)),""),"") | D11: =DAY(S11) -> 23 | E11: =IFERROR(IF(INDEX(Feiertage!$C$2:$S$40,MATCH(S11,Feiertage!$B$2:$B$40,0),MATCH($G$1,Feiertage!$C$1:$S$1,0))="x",INDEX(Feiertage!$A$2:$A$40,MATCH(S11,Feiertage!$B$2:$B$40,0)),""),"") | F11: =DAY(T11) -> 24 | G11: =IFERROR(IF(INDEX(Feiertage!$C$2:$S$40,MATCH(T11,Feiertage!$B$2:$B$40,0),MATCH($G$1,Feiertage!$C$1:$S$1,0))="x",INDEX(Feiertage!$A$2:$A$40,MATCH(T11,Feiertage!$B$2:$B$40,0)),""),"") | H11: =DAY(U11) -> 25 | I11: =IFERROR(IF(INDEX(Feiertage!$C$2:$S$40,MATCH(U11,Feiertage!$B$2:$B$40,0),MATCH($G$1,Feiertage!$C$1:$S$1,0))="x",INDEX(Feiertage!$A$2:$A$40,MATCH(U11,Feiertage!$B$2:$B$40,0)),""),"") | J11: =DAY(V11) -> 26 | K11: =IFERROR(IF(INDEX(Feiertage!$C$2:$S$40,MATCH(V11,Feiertage!$B$2:$B$40,0),MATCH($G$1,Feiertage!$C$1:$S$1,0))="x",INDEX(Feiertage!$A$2:$A$40,MATCH(V11,Feiertage!$B$2:$B$40,0)),""),"") | L11: =DAY(W11) -> 27 | M11: =IFERROR(IF(INDEX(Feiertage!$C$2:$S$40,MATCH(W11,Feiertage!$B$2:$B$40,0),MATCH($G$1,Feiertage!$C$1:$S$1,0))="x",INDEX(Feiertage!$A$2:$A$40,MATCH(W11,Feiertage!$B$2:$B$40,0)),""),"") | N11: =DAY(X11) -> 28 | O11: =IFERROR(IF(INDEX(Feiertage!$C$2:$S$40,MATCH(X11,Feiertage!$B$2:$B$40,0),MATCH($G$1,Feiertage!$C$1:$S$1,0))="x",INDEX(Feiertage!$A$2:$A$40,MATCH(X11,Feiertage!$B$2:$B$40,0)),""),"") | P11: =WEEKNUM(R11+3,21) -> 8 | R11: =R10+7 -> 46440 | S11: =R11+1 -> 46441 | T11: =S11+1 -> 46442 | U11: =T11+1 -> 46443 | V11: =U11+1 -> 46444 | W11: =V11+1 -> 46445 | X11: =W11+1 -> 46446
A12: =IF(AND(DAY(X12)<=7,YEAR(X12)=$C$1),TEXT(X12,"MMM"),"") -> Mär | B12: =DAY(R12) -> 1 | C12: =IFERROR(IF(INDEX(Feiertage!$C$2:$S$40,MATCH(R12,Feiertage!$B$2:$B$40,0),MATCH($G$1,Feiertage!$C$1:$S$1,0))="x",INDEX(Feiertage!$A$2:$A$40,MATCH(R12,Feiertage!$B$2:$B$40,0)),""),"") | D12: =DAY(S12) -> 2 | E12: =IFERROR(IF(INDEX(Feiertage!$C$2:$S$40,MATCH(S12,Feiertage!$B$2:$B$40,0),MATCH($G$1,Feiertage!$C$1:$S$1,0))="x",INDEX(Feiertage!$A$2:$A$40,MATCH(S12,Feiertage!$B$2:$B$40,0)),""),"") | F12: =DAY(T12) -> 3 | G12: =IFERROR(IF(INDEX(Feiertage!$C$2:$S$40,MATCH(T12,Feiertage!$B$2:$B$40,0),MATCH($G$1,Feiertage!$C$1:$S$1,0))="x",INDEX(Feiertage!$A$2:$A$40,MATCH(T12,Feiertage!$B$2:$B$40,0)),""),"") | H12: =DAY(U12) -> 4 | I12: =IFERROR(IF(INDEX(Feiertage!$C$2:$S$40,MATCH(U12,Feiertage!$B$2:$B$40,0),MATCH($G$1,Feiertage!$C$1:$S$1,0))="x",INDEX(Feiertage!$A$2:$A$40,MATCH(U12,Feiertage!$B$2:$B$40,0)),""),"") | J12: =DAY(V12) -> 5 | K12: =IFERROR(IF(INDEX(Feiertage!$C$2:$S$40,MATCH(V12,Feiertage!$B$2:$B$40,0),MATCH($G$1,Feiertage!$C$1:$S$1,0))="x",INDEX(Feiertage!$A$2:$A$40,MATCH(V12,Feiertage!$B$2:$B$40,0)),""),"") | L12: =DAY(W12) -> 6 | M12: =IFERROR(IF(INDEX(Feiertage!$C$2:$S$40,MATCH(W12,Feiertage!$B$2:$B$40,0),MATCH($G$1,Feiertage!$C$1:$S$1,0))="x",INDEX(Feiertage!$A$2:$A$40,MATCH(W12,Feiertage!$B$2:$B$40,0)),""),"") | N12: =DAY(X12) -> 7 | O12: =IFERROR(IF(INDEX(Feiertage!$C$2:$S$40,MATCH(X12,Feiertage!$B$2:$B$40,0),MATCH($G$1,Feiertage!$C$1:$S$1,0))="x",INDEX(Feiertage!$A$2:$A$40,MATCH(X12,Feiertage!$B$2:$B$40,0)),""),"") | P12: =WEEKNUM(R12+3,21) -> 9 | R12: =R11+7 -> 46447 | S12: =R12+1 -> 46448 | T12: =S12+1 -> 46449 | U12: =T12+1 -> 46450 | V12: =U12+1 -> 46451 | W12: =V12+1 -> 46452 | X12: =W12+1 -> 46453
A13: =IF(AND(DAY(X13)<=7,YEAR(X13)=$C$1),TEXT(X13,"MMM"),"") | B13: =DAY(R13) -> 8 | C13: =IFERROR(IF(INDEX(Feiertage!$C$2:$S$40,MATCH(R13,Feiertage!$B$2:$B$40,0),MATCH($G$1,Feiertage!$C$1:$S$1,0))="x",INDEX(Feiertage!$A$2:$A$40,MATCH(R13,Feiertage!$B$2:$B$40,0)),""),"") | D13: =DAY(S13) -> 9 | E13: =IFERROR(IF(INDEX(Feiertage!$C$2:$S$40,MATCH(S13,Feiertage!$B$2:$B$40,0),MATCH($G$1,Feiertage!$C$1:$S$1,0))="x",INDEX(Feiertage!$A$2:$A$40,MATCH(S13,Feiertage!$B$2:$B$40,0)),""),"") | F13: =DAY(T13) -> 10 | G13: =IFERROR(IF(INDEX(Feiertage!$C$2:$S$40,MATCH(T13,Feiertage!$B$2:$B$40,0),MATCH($G$1,Feiertage!$C$1:$S$1,0))="x",INDEX(Feiertage!$A$2:$A$40,MATCH(T13,Feiertage!$B$2:$B$40,0)),""),"") | H13: =DAY(U13) -> 11 | I13: =IFERROR(IF(INDEX(Feiertage!$C$2:$S$40,MATCH(U13,Feiertage!$B$2:$B$40,0),MATCH($G$1,Feiertage!$C$1:$S$1,0))="x",INDEX(Feiertage!$A$2:$A$40,MATCH(U13,Feiertage!$B$2:$B$40,0)),""),"") | J13: =DAY(V13) -> 12 | K13: =IFERROR(IF(INDEX(Feiertage!$C$2:$S$40,MATCH(V13,Feiertage!$B$2:$B$40,0),MATCH($G$1,Feiertage!$C$1:$S$1,0))="x",INDEX(Feiertage!$A$2:$A$40,MATCH(V13,Feiertage!$B$2:$B$40,0)),""),"") | L13: =DAY(W13) -> 13 | M13: =IFERROR(IF(INDEX(Feiertage!$C$2:$S$40,MATCH(W13,Feiertage!$B$2:$B$40,0),MATCH($G$1,Feiertage!$C$1:$S$1,0))="x",INDEX(Feiertage!$A$2:$A$40,MATCH(W13,Feiertage!$B$2:$B$40,0)),""),"") | N13: =DAY(X13) -> 14 | O13: =IFERROR(IF(INDEX(Feiertage!$C$2:$S$40,MATCH(X13,Feiertage!$B$2:$B$40,0),MATCH($G$1,Feiertage!$C$1:$S$1,0))="x",INDEX(Feiertage!$A$2:$A$40,MATCH(X13,Feiertage!$B$2:$B$40,0)),""),"") | P13: =WEEKNUM(R13+3,21) -> 10 | R13: =R12+7 -> 46454 | S13: =R13+1 -> 46455 | T13: =S13+1 -> 46456 | U13: =T13+1 -> 46457 | V13: =U13+1 -> 46458 | W13: =V13+1 -> 46459 | X13: =W13+1 -> 46460
A14: =IF(AND(DAY(X14)<=7,YEAR(X14)=$C$1),TEXT(X14,"MMM"),"") | B14: =DAY(R14) -> 15 | C14: =IFERROR(IF(INDEX(Feiertage!$C$2:$S$40,MATCH(R14,Feiertage!$B$2:$B$40,0),MATCH($G$1,Feiertage!$C$1:$S$1,0))="x",INDEX(Feiertage!$A$2:$A$40,MATCH(R14,Feiertage!$B$2:$B$40,0)),""),"") | D14: =DAY(S14) -> 16 | E14: =IFERROR(IF(INDEX(Feiertage!$C$2:$S$40,MATCH(S14,Feiertage!$B$2:$B$40,0),MATCH($G$1,Feiertage!$C$1:$S$1,0))="x",INDEX(Feiertage!$A$2:$A$40,MATCH(S14,Feiertage!$B$2:$B$40,0)),""),"") | F14: =DAY(T14) -> 17 | G14: =IFERROR(IF(INDEX(Feiertage!$C$2:$S$40,MATCH(T14,Feiertage!$B$2:$B$40,0),MATCH($G$1,Feiertage!$C$1:$S$1,0))="x",INDEX(Feiertage!$A$2:$A$40,MATCH(T14,Feiertage!$B$2:$B$40,0)),""),"") | H14: =DAY(U14) -> 18 | I14: =IFERROR(IF(INDEX(Feiertage!$C$2:$S$40,MATCH(U14,Feiertage!$B$2:$B$40,0),MATCH($G$1,Feiertage!$C$1:$S$1,0))="x",INDEX(Feiertage!$A$2:$A$40,MATCH(U14,Feiertage!$B$2:$B$40,0)),""),"") | J14: =DAY(V14) -> 19 | K14: =IFERROR(IF(INDEX(Feiertage!$C$2:$S$40,MATCH(V14,Feiertage!$B$2:$B$40,0),MATCH($G$1,Feiertage!$C$1:$S$1,0))="x",INDEX(Feiertage!$A$2:$A$40,MATCH(V14,Feiertage!$B$2:$B$40,0)),""),"") | L14: =DAY(W14) -> 20 | M14: =IFERROR(IF(INDEX(Feiertage!$C$2:$S$40,MATCH(W14,Feiertage!$B$2:$B$40,0),MATCH($G$1,Feiertage!$C$1:$S$1,0))="x",INDEX(Feiertage!$A$2:$A$40,MATCH(W14,Feiertage!$B$2:$B$40,0)),""),"") | N14: =DAY(X14) -> 21 | O14: =IFERROR(IF(INDEX(Feiertage!$C$2:$S$40,MATCH(X14,Feiertage!$B$2:$B$40,0),MATCH($G$1,Feiertage!$C$1:$S$1,0))="x",INDEX(Feiertage!$A$2:$A$40,MATCH(X14,Feiertage!$B$2:$B$40,0)),""),"") | P14: =WEEKNUM(R14+3,21) -> 11 | R14: =R13+7 -> 46461 | S14: =R14+1 -> 46462 | T14: =S14+1 -> 46463 | U14: =T14+1 -> 46464 | V14: =U14+1 -> 46465 | W14: =V14+1 -> 46466 | X14: =W14+1 -> 46467
A15: =IF(AND(DAY(X15)<=7,YEAR(X15)=$C$1),TEXT(X15,"MMM"),"") | B15: =DAY(R15) -> 22 | C15: =IFERROR(IF(INDEX(Feiertage!$C$2:$S$40,MATCH(R15,Feiertage!$B$2:$B$40,0),MATCH($G$1,Feiertage!$C$1:$S$1,0))="x",INDEX(Feiertage!$A$2:$A$40,MATCH(R15,Feiertage!$B$2:$B$40,0)),""),"") | D15: =DAY(S15) -> 23 | E15: =IFERROR(IF(INDEX(Feiertage!$C$2:$S$40,MATCH(S15,Feiertage!$B$2:$B$40,0),MATCH($G$1,Feiertage!$C$1:$S$1,0))="x",INDEX(Feiertage!$A$2:$A$40,MATCH(S15,Feiertage!$B$2:$B$40,0)),""),"") | F15: =DAY(T15) -> 24 | G15: =IFERROR(IF(INDEX(Feiertage!$C$2:$S$40,MATCH(T15,Feiertage!$B$2:$B$40,0),MATCH($G$1,Feiertage!$C$1:$S$1,0))="x",INDEX(Feiertage!$A$2:$A$40,MATCH(T15,Feiertage!$B$2:$B$40,0)),""),"") | H15: =DAY(U15) -> 25 | I15: =IFERROR(IF(INDEX(Feiertage!$C$2:$S$40,MATCH(U15,Feiertage!$B$2:$B$40,0),MATCH($G$1,Feiertage!$C$1:$S$1,0))="x",INDEX(Feiertage!$A$2:$A$40,MATCH(U15,Feiertage!$B$2:$B$40,0)),""),"") | J15: =DAY(V15) -> 26 | K15: =IFERROR(IF(INDEX(Feiertage!$C$2:$S$40,MATCH(V15,Feiertage!$B$2:$B$40,0),MATCH($G$1,Feiertage!$C$1:$S$1,0))="x",INDEX(Feiertage!$A$2:$A$40,MATCH(V15,Feiertage!$B$2:$B$40,0)),""),"") -> Karfreitag | L15: =DAY(W15) -> 27 | M15: =IFERROR(IF(INDEX(Feiertage!$C$2:$S$40,MATCH(W15,Feiertage!$B$2:$B$40,0),MATCH($G$1,Feiertage!$C$1:$S$1,0))="x",INDEX(Feiertage!$A$2:$A$40,MATCH(W15,Feiertage!$B$2:$B$40,0)),""),"") | N15: =DAY(X15) -> 28 | O15: =IFERROR(IF(INDEX(Feiertage!$C$2:$S$40,MATCH(X15,Feiertage!$B$2:$B$40,0),MATCH($G$1,Feiertage!$C$1:$S$1,0))="x",INDEX(Feiertage!$A$2:$A$40,MATCH(X15,Feiertage!$B$2:$B$40,0)),""),"") | P15: =WEEKNUM(R15+3,21) -> 12 | R15: =R14+7 -> 46468 | S15: =R15+1 -> 46469 | T15: =S15+1 -> 46470 | U15: =T15+1 -> 46471 | V15: =U15+1 -> 46472 | W15: =V15+1 -> 46473 | X15: =W15+1 -> 46474
... A55: =IF(AND(DAY(X55)<=7,YEAR(X55)=$C$1),TEXT(X55,"MMM"),"") | B55: =DAY(R55) -> 27 | C55: =IFERROR(IF(INDEX(Feiertage!$C$2:$S$40,MATCH(R55,Feiertage!$B$2:$B$40,0),MATCH($G$1,Feiertage!$C$1:$S$1,0))="x",INDEX(Feiertage!$A$2:$A$40,MATCH(R55,Feiertage!$B$2:$B$40,0)),""),"") | D55: =DAY(S55) -> 28 | E55: =IFERROR(IF(INDEX(Feiertage!$C$2:$S$40,MATCH(S55,Feiertage!$B$2:$B$40,0),MATCH($G$1,Feiertage!$C$1:$S$1,0))="x",INDEX(Feiertage!$A$2:$A$40,MATCH(S55,Feiertage!$B$2:$B$40,0)),""),"") | F55: =DAY(T55) -> 29 | G55: =IFERROR(IF(INDEX(Feiertage!$C$2:$S$40,MATCH(T55,Feiertage!$B$2:$B$40,0),MATCH($G$1,Feiertage!$C$1:$S$1,0))="x",INDEX(Feiertage!$A$2:$A$40,MATCH(T55,Feiertage!$B$2:$B$40,0)),""),"") | H55: =DAY(U55) -> 30 | I55: =IFERROR(IF(INDEX(Feiertage!$C$2:$S$40,MATCH(U55,Feiertage!$B$2:$B$40,0),MATCH($G$1,Feiertage!$C$1:$S$1,0))="x",INDEX(Feiertage!$A$2:$A$40,MATCH(U55,Feiertage!$B$2:$B$40,0)),""),"") | J55: =DAY(V55) -> 31 | K55: =IFERROR(IF(INDEX(Feiertage!$C$2:$S$40,MATCH(V55,Feiertage!$B$2:$B$40,0),MATCH($G$1,Feiertage!$C$1:$S$1,0))="x",INDEX(Feiertage!$A$2:$A$40,MATCH(V55,Feiertage!$B$2:$B$40,0)),""),"") | L55: =DAY(W55) -> 1 | M55: =IFERROR(IF(INDEX(Feiertage!$C$2:$S$40,MATCH(W55,Feiertage!$B$2:$B$40,0),MATCH($G$1,Feiertage!$C$1:$S$1,0))="x",INDEX(Feiertage!$A$2:$A$40,MATCH(W55,Feiertage!$B$2:$B$40,0)),""),"") | N55: =DAY(X55) -> 2 | O55: =IFERROR(IF(INDEX(Feiertage!$C$2:$S$40,MATCH(X55,Feiertage!$B$2:$B$40,0),MATCH($G$1,Feiertage!$C$1:$S$1,0))="x",INDEX(Feiertage!$A$2:$A$40,MATCH(X55,Feiertage!$B$2:$B$40,0)),""),"") | P55: =WEEKNUM(R55+3,21) -> 52 | R55: =R54+7 -> 46748 | S55: =R55+1 -> 46749 | T55: =S55+1 -> 46750 | U55: =T55+1 -> 46751 | V55: =U55+1 -> 46752 | W55: =V55+1 -> 46753 | X55: =W55+1 -> 46754
A57: So geht's
A58: Jahr (C1) und Bundesland (G1) ändern, alles andere rechnet sich selbst. DE zeigt nur bundesweite Feiertage.
A59: Feiertage erscheinen automatisch und sind rot hinterlegt. Grau sind Tage des Vor- und Folgejahres.
A60: Urlaub, Termine oder Notizen einfach in das Feld rechts neben dem Tag schreiben.
A61: Blatt Feiertage: eigene Tage in den Zeilen 21 bis 40 ergänzen, mit x in der Spalte des Bundeslands.
A63: 90 Tage kostenlos testen: QUANTICAL.ERP bucht Stunden, verwaltet Urlaub und Reisekosten und erstellt Rechnungen aus den gebuchten Zeiten.
A64: erp.quantical.com

Sheet Feiertage
A1: Feiertag | B1: Datum | C1: DE | D1: BW | E1: BY | F1: BE | G1: BB | H1: HB | I1: HH | J1: HE | K1: MV | L1: NI | M1: NW | N1: RP | O1: SL | P1: SN | Q1: ST | R1: SH | S1: TH
A2: Neujahr | B2: =DATE(Jahresplaner!$C$1,1,1) -> 46388 | C2: x | D2: x | E2: x | F2: x | G2: x | H2: x | I2: x | J2: x | K2: x | L2: x | M2: x | N2: x | O2: x | P2: x | Q2: x | R2: x | S2: x
A3: Heilige Drei Könige | B3: =DATE(Jahresplaner!$C$1,1,6) -> 46393 | D3: x | E3: x | Q3: x
A4: Internationaler Frauentag | B4: =DATE(Jahresplaner!$C$1,3,8) -> 46454 | F4: x | K4: x
A5: Karfreitag | B5: =(FLOOR(DATE(Jahresplaner!$C$1,5,DAY(MINUTE(Jahresplaner!$C$1/38)/2+56)),7)-34)-2 -> 46472 | C5: x | D5: x | E5: x | F5: x | G5: x | H5: x | I5: x | J5: x | K5: x | L5: x | M5: x | N5: x | O5: x | P5: x | Q5: x | R5: x | S5: x
A6: Ostersonntag | B6: =(FLOOR(DATE(Jahresplaner!$C$1,5,DAY(MINUTE(Jahresplaner!$C$1/38)/2+56)),7)-34) -> 46474 | G6: x
A7: Ostermontag | B7: =(FLOOR(DATE(Jahresplaner!$C$1,5,DAY(MINUTE(Jahresplaner!$C$1/38)/2+56)),7)-34)+1 -> 46475 | C7: x | D7: x | E7: x | F7: x | G7: x | H7: x | I7: x | J7: x | K7: x | L7: x | M7: x | N7: x | O7: x | P7: x | Q7: x | R7: x | S7: x
A8: Tag der Arbeit | B8: =DATE(Jahresplaner!$C$1,5,1) -> 46508 | C8: x | D8: x | E8: x | F8: x | G8: x | H8: x | I8: x | J8: x | K8: x | L8: x | M8: x | N8: x | O8: x | P8: x | Q8: x | R8: x | S8: x
A9: Christi Himmelfahrt | B9: =(FLOOR(DATE(Jahresplaner!$C$1,5,DAY(MINUTE(Jahresplaner!$C$1/38)/2+56)),7)-34)+39 -> 46513 | C9: x | D9: x | E9: x | F9: x | G9: x | H9: x | I9: x | J9: x | K9: x | L9: x | M9: x | N9: x | O9: x | P9: x | Q9: x | R9: x | S9: x
A10: Pfingstsonntag | B10: =(FLOOR(DATE(Jahresplaner!$C$1,5,DAY(MINUTE(Jahresplaner!$C$1/38)/2+56)),7)-34)+49 -> 46523 | G10: x
A11: Pfingstmontag | B11: =(FLOOR(DATE(Jahresplaner!$C$1,5,DAY(MINUTE(Jahresplaner!$C$1/38)/2+56)),7)-34)+50 -> 46524 | C11: x | D11: x | E11: x | F11: x | G11: x | H11: x | I11: x | J11: x | K11: x | L11: x | M11: x | N11: x | O11: x | P11: x | Q11: x | R11: x | S11: x
A12: Fronleichnam | B12: =(FLOOR(DATE(Jahresplaner!$C$1,5,DAY(MINUTE(Jahresplaner!$C$1/38)/2+56)),7)-34)+60 -> 46534 | D12: x | E12: x | J12: x | M12: x | N12: x | O12: x
A13: Mariä Himmelfahrt | B13: =DATE(Jahresplaner!$C$1,8,15) -> 46614 | O13: x
A14: Weltkindertag | B14: =DATE(Jahresplaner!$C$1,9,20) -> 46650 | S14: x
A15: Tag der Deutschen Einheit | B15: =DATE(Jahresplaner!$C$1,10,3) -> 46663 | C15: x | D15: x | E15: x | F15: x | G15: x | H15: x | I15: x | J15: x | K15: x | L15: x | M15: x | N15: x | O15: x | P15: x | Q15: x | R15: x | S15: x
A16: Reformationstag | B16: =DATE(Jahresplaner!$C$1,10,31) -> 46691 | G16: x | H16: x | I16: x | K16: x | L16: x | P16: x | Q16: x | R16: x | S16: x
A17: Allerheiligen | B17: =DATE(Jahresplaner!$C$1,11,1) -> 46692 | D17: x | E17: x | M17: x | N17: x | O17: x
A18: Buß- und Bettag | B18: =DATE(Jahresplaner!$C$1,11,22)-MOD(WEEKDAY(DATE(Jahresplaner!$C$1,11,22),2)-3,7) -> 46708 | P18: x
A19: 1. Weihnachtstag | B19: =DATE(Jahresplaner!$C$1,12,25) -> 46746 | C19: x | D19: x | E19: x | F19: x | G19: x | H19: x | I19: x | J19: x | K19: x | L19: x | M19: x | N19: x | O19: x | P19: x | Q19: x | R19: x | S19: x
A20: 2. Weihnachtstag | B20: =DATE(Jahresplaner!$C$1,12,26) -> 46747 | C20: x | D20: x | E20: x | F20: x | G20: x | H20: x | I20: x | J20: x | K20: x | L20: x | M20: x | N20: x | O20: x | P20: x | Q20: x | R20: x | S20: x
A42: Datum rechnet sich aus dem Jahr auf dem Blatt Jahresplaner. DE steht für die bundesweit geltenden Feiertage. Mariä Himmelfahrt gilt in Bayern nur in überwiegend katholischen Gemeinden.
